BEGIN:VCALENDAR
VERSION:2.0
PRODID:-//CMJTS - ECPv6.15.20//NONSGML v1.0//EN
CALSCALE:GREGORIAN
METHOD:PUBLISH
X-WR-CALNAME:CMJTS
X-ORIGINAL-URL:https://www.cmjts.org
X-WR-CALDESC:Events for CMJTS
REFRESH-INTERVAL;VALUE=DURATION:PT1H
X-Robots-Tag:noindex
X-PUBLISHED-TTL:PT1H
BEGIN:VTIMEZONE
TZID:America/Chicago
BEGIN:DAYLIGHT
TZOFFSETFROM:-0600
TZOFFSETTO:-0500
TZNAME:CDT
DTSTART:20250309T080000
END:DAYLIGHT
BEGIN:STANDARD
TZOFFSETFROM:-0500
TZOFFSETTO:-0600
TZNAME:CST
DTSTART:20251102T070000
END:STANDARD
BEGIN:DAYLIGHT
TZOFFSETFROM:-0600
TZOFFSETTO:-0500
TZNAME:CDT
DTSTART:20260308T080000
END:DAYLIGHT
BEGIN:STANDARD
TZOFFSETFROM:-0500
TZOFFSETTO:-0600
TZNAME:CST
DTSTART:20261101T070000
END:STANDARD
BEGIN:DAYLIGHT
TZOFFSETFROM:-0600
TZOFFSETTO:-0500
TZNAME:CDT
DTSTART:20270314T080000
END:DAYLIGHT
BEGIN:STANDARD
TZOFFSETFROM:-0500
TZOFFSETTO:-0600
TZNAME:CST
DTSTART:20271107T070000
END:STANDARD
END:VTIMEZONE
BEGIN:VEVENT
DTSTART;TZID=America/Chicago:20260303T100000
DTEND;TZID=America/Chicago:20260303T110000
DTSTAMP:20260424T032816
CREATED:20250508T135346Z
LAST-MODIFIED:20250508T135346Z
UID:10000460-1772532000-1772535600@www.cmjts.org
SUMMARY:Take Action Tuesdays Resume Review
DESCRIPTION:Jobseekers can visit us during Resume Review walk-in hours at CareerForce Cambridge for resume and cover letter reviews. A CMJTS career navigator will review your resume and provide personalized and actionable feedback. \nYour visit will include the following: \n\nHow strong is your resume?\nHow does the resume review work?\nWhat to expect from a resume review.\n\nCareerForce Cambridge \n140 North Birch Street\, Suite 105\, Cambridge\, MN 55008 \nPlease RSVP to Danielle at 763-401-1733 or dsnedeker@cmjts.org. \nADULT_Take Action Tuesday Resume Review
URL:https://www.cmjts.org/event/take-action-tuesdays-resume-review/2026-03-03/
LOCATION:CareerForce Cambridge\, 140 North Birch Street\, Suite 105\, Cambridge\, MN\, 55008\, United States
ORGANIZER;CN="Central Minnesota Jobs and Training Services%2C Inc.":MAILTO:info@cmjts.org
END:VEVENT
BEGIN:VEVENT
DTSTART;TZID=America/Chicago:20260303T100000
DTEND;TZID=America/Chicago:20260303T120000
DTSTAMP:20260424T032816
CREATED:20251231T211121Z
LAST-MODIFIED:20251231T211121Z
UID:10001583-1772532000-1772539200@www.cmjts.org
SUMMARY:Professional Networking Group - 10 A.M.
DESCRIPTION:Register for our weekly Professional Networking group – a complimentary program provided exclusively by Central Minnesota Jobs and Training Services\, Inc. and CareerForce Monticello. \nTuesday\, March 3rd \nExpand your connections and opportunities!Join us every Tuesday at 10:00 a.m. for two full hours of developing strategies and tactics for professional job transition\, expanding your network\, and receiving support for leaders\, executives\, and professional individual contributors in job search mode. Connect\, learn\, and grow with other professionals while gaining valuable insights to advance your career. \nRegister HERE! \nNote:  This group is designed for leaders\, managers\, and individual contributors who are seeking new professional roles.  If you are an Employer/Recruiter please contact one of our facilitators at jsharpe@cmjts.org.
URL:https://www.cmjts.org/event/professional-networking-group-10-a-m-10/
LOCATION:Virtual
ORGANIZER;CN="Central Minnesota Jobs and Training Services%2C Inc.":MAILTO:info@cmjts.org
END:VEVENT
BEGIN:VEVENT
DTSTART;TZID=America/Chicago:20260305T090000
DTEND;TZID=America/Chicago:20260305T133000
DTSTAMP:20260424T032816
CREATED:20260129T212525Z
LAST-MODIFIED:20260129T214037Z
UID:10001589-1772701200-1772717400@www.cmjts.org
SUMMARY:Skills-Based Hiring Accelerator Workshop - Monticello
DESCRIPTION:ATTRACT\, HIRE\, & RETAIN TALENT by attending the half-day workshop.\nWho should attend: HR Directors/Changemakers\, Talent Acquisition\, Managers\, Trainers \nPrice includes lunch and snacks \n3.5 SHRM CEUs available for attendance \nClick here to register\, or review the downloadable flyer below for more details. \nSkills-Based Hiring Flyer_Monticello \n 
URL:https://www.cmjts.org/event/skills-based-hiring-accelerator-workshop/
LOCATION:Central Minnesota Jobs & Training Services (Monticello)\, 406 East 7th St.\, Monticello\, MN\, 55362\, United States
ORGANIZER;CN="Central Minnesota Jobs and Training Services%2C Inc.":MAILTO:info@cmjts.org
END:VEVENT
BEGIN:VEVENT
DTSTART;TZID=America/Chicago:20260310T100000
DTEND;TZID=America/Chicago:20260310T110000
DTSTAMP:20260424T032816
CREATED:20250508T135346Z
LAST-MODIFIED:20250508T135346Z
UID:10000461-1773136800-1773140400@www.cmjts.org
SUMMARY:Take Action Tuesdays Resume Review
DESCRIPTION:Jobseekers can visit us during Resume Review walk-in hours at CareerForce Cambridge for resume and cover letter reviews. A CMJTS career navigator will review your resume and provide personalized and actionable feedback. \nYour visit will include the following: \n\nHow strong is your resume?\nHow does the resume review work?\nWhat to expect from a resume review.\n\nCareerForce Cambridge \n140 North Birch Street\, Suite 105\, Cambridge\, MN 55008 \nPlease RSVP to Danielle at 763-401-1733 or dsnedeker@cmjts.org. \nADULT_Take Action Tuesday Resume Review
URL:https://www.cmjts.org/event/take-action-tuesdays-resume-review/2026-03-10/
LOCATION:CareerForce Cambridge\, 140 North Birch Street\, Suite 105\, Cambridge\, MN\, 55008\, United States
ORGANIZER;CN="Central Minnesota Jobs and Training Services%2C Inc.":MAILTO:info@cmjts.org
END:VEVENT
BEGIN:VEVENT
DTSTART;TZID=America/Chicago:20260310T100000
DTEND;TZID=America/Chicago:20260310T120000
DTSTAMP:20260424T032816
CREATED:20251231T210819Z
LAST-MODIFIED:20251231T210819Z
UID:10001584-1773136800-1773144000@www.cmjts.org
SUMMARY:Professional Networking Group - 10 A.M.
DESCRIPTION:Register for our weekly Professional Networking group – a complimentary program provided exclusively by Central Minnesota Jobs and Training Services\, Inc. and CareerForce Monticello. \nTuesday\, March 10th \nExpand your connections and opportunities!Join us every Tuesday at 10:00 a.m. for two full hours of developing strategies and tactics for professional job transition\, expanding your network\, and receiving support for leaders\, executives\, and professional individual contributors in job search mode. Connect\, learn\, and grow with other professionals while gaining valuable insights to advance your career. \nRegister HERE! \nNote:  This group is designed for leaders\, managers\, and individual contributors who are seeking new professional roles.  If you are an Employer/Recruiter please contact one of our facilitators at jsharpe@cmjts.org.
URL:https://www.cmjts.org/event/professional-networking-group-10-a-m-2/
LOCATION:Virtual
ORGANIZER;CN="Central Minnesota Jobs and Training Services%2C Inc.":MAILTO:info@cmjts.org
END:VEVENT
BEGIN:VEVENT
DTSTART;TZID=America/Chicago:20260312T090000
DTEND;TZID=America/Chicago:20260312T133000
DTSTAMP:20260424T032816
CREATED:20260129T213322Z
LAST-MODIFIED:20260129T214011Z
UID:10001590-1773306000-1773322200@www.cmjts.org
SUMMARY:Skills-Based Hiring Accelerator Workshop - Mora
DESCRIPTION:ATTRACT\, HIRE\, & RETAIN TALENT\nWho should attend: HR Directors/Changemakers\, Talent Acquisition\, Managers\, Trainers \nLunch and snacks provided \n3.5SHRM CEUs available to attendees \nClick here to register or download the flyer below for additional details. \nSkills-Based Hiring Flyer_Mora
URL:https://www.cmjts.org/event/skills-based-hiring-accelerator-workshop-2/
LOCATION:Lakes and Pines\, 1700 E Maple Ave\, Mora\, MN\, 55051\, United States
ORGANIZER;CN="Central Minnesota Jobs and Training Services%2C Inc.":MAILTO:info@cmjts.org
END:VEVENT
BEGIN:VEVENT
DTSTART;TZID=America/Chicago:20260317T100000
DTEND;TZID=America/Chicago:20260317T110000
DTSTAMP:20260424T032816
CREATED:20250508T135346Z
LAST-MODIFIED:20250508T135346Z
UID:10000462-1773741600-1773745200@www.cmjts.org
SUMMARY:Take Action Tuesdays Resume Review
DESCRIPTION:Jobseekers can visit us during Resume Review walk-in hours at CareerForce Cambridge for resume and cover letter reviews. A CMJTS career navigator will review your resume and provide personalized and actionable feedback. \nYour visit will include the following: \n\nHow strong is your resume?\nHow does the resume review work?\nWhat to expect from a resume review.\n\nCareerForce Cambridge \n140 North Birch Street\, Suite 105\, Cambridge\, MN 55008 \nPlease RSVP to Danielle at 763-401-1733 or dsnedeker@cmjts.org. \nADULT_Take Action Tuesday Resume Review
URL:https://www.cmjts.org/event/take-action-tuesdays-resume-review/2026-03-17/
LOCATION:CareerForce Cambridge\, 140 North Birch Street\, Suite 105\, Cambridge\, MN\, 55008\, United States
ORGANIZER;CN="Central Minnesota Jobs and Training Services%2C Inc.":MAILTO:info@cmjts.org
END:VEVENT
BEGIN:VEVENT
DTSTART;TZID=America/Chicago:20260317T100000
DTEND;TZID=America/Chicago:20260317T120000
DTSTAMP:20260424T032816
CREATED:20251231T211507Z
LAST-MODIFIED:20251231T211507Z
UID:10001585-1773741600-1773748800@www.cmjts.org
SUMMARY:Professional Networking Group - 10 A.M.
DESCRIPTION:Register for our weekly Professional Networking group – a complimentary program provided exclusively by Central Minnesota Jobs and Training Services\, Inc. and CareerForce Monticello. \nTuesday\, March 17th \nExpand your connections and opportunities!Join us every Tuesday at 10:00 a.m. for two full hours of developing strategies and tactics for professional job transition\, expanding your network\, and receiving support for leaders\, executives\, and professional individual contributors in job search mode. Connect\, learn\, and grow with other professionals while gaining valuable insights to advance your career. \nRegister HERE! \nNote:  This group is designed for leaders\, managers\, and individual contributors who are seeking new professional roles.  If you are an Employer/Recruiter please contact one of our facilitators at jsharpe@cmjts.org.
URL:https://www.cmjts.org/event/professional-networking-group-10-a-m-11/
LOCATION:Virtual
ORGANIZER;CN="Central Minnesota Jobs and Training Services%2C Inc.":MAILTO:info@cmjts.org
END:VEVENT
BEGIN:VEVENT
DTSTART;TZID=America/Chicago:20260319T133000
DTEND;TZID=America/Chicago:20260319T143000
DTSTAMP:20260424T032816
CREATED:20260114T165118Z
LAST-MODIFIED:20260114T165118Z
UID:10001588-1773927000-1773930600@www.cmjts.org
SUMMARY:Basic Computer Skills
DESCRIPTION:Start your journey to learn basic computer skills through hands-on navigation of a laptop. \nTopics will include \n\nComputer Hardware\nComputer Software\nMicrosoft Outlook and Email\nInternet and Job Searching.\n\nThird Thursday of every month at 1:30 – 2:30 p.m. at CareerForce Cambridge\, 140 Birch Street North\, Cambridge. \nPre-registration requested but not required.  Please call 763-645-1313. \nComputer Basics Workshop
URL:https://www.cmjts.org/event/basic-computer-skills/
LOCATION:CareerForce Cambridge\, 140 North Birch Street\, Suite 105\, Cambridge\, MN\, 55008\, United States
END:VEVENT
BEGIN:VEVENT
DTSTART;TZID=America/Chicago:20260324T090000
DTEND;TZID=America/Chicago:20260324T133000
DTSTAMP:20260424T032816
CREATED:20260129T213650Z
LAST-MODIFIED:20260129T213948Z
UID:10001591-1774342800-1774359000@www.cmjts.org
SUMMARY:Skills-Based Hiring Accelerator Workshop - Willmar
DESCRIPTION:ATTRACT\, HIRE\, & RETAIN TALENT\nWho should attend: HR Directors/Changemakers\, Talent Acquisition\, Managers\, Trainers \nLunch and snacks provided \n3.5 CEUS available to attendees \nSkills-Based Hiring Flyer_Willmar to register or download the flyer for additional information.
URL:https://www.cmjts.org/event/skills-based-hiring-accelerator-workshop-3/
LOCATION:Ridgewater College (Willmar)\, 2101 15th Ave NW\, Willmar\, MN\, 56201\, United States
ORGANIZER;CN="Central Minnesota Jobs and Training Services%2C Inc.":MAILTO:info@cmjts.org
END:VEVENT
BEGIN:VEVENT
DTSTART;TZID=America/Chicago:20260324T100000
DTEND;TZID=America/Chicago:20260324T110000
DTSTAMP:20260424T032816
CREATED:20250508T135346Z
LAST-MODIFIED:20250508T135346Z
UID:10000463-1774346400-1774350000@www.cmjts.org
SUMMARY:Take Action Tuesdays Resume Review
DESCRIPTION:Jobseekers can visit us during Resume Review walk-in hours at CareerForce Cambridge for resume and cover letter reviews. A CMJTS career navigator will review your resume and provide personalized and actionable feedback. \nYour visit will include the following: \n\nHow strong is your resume?\nHow does the resume review work?\nWhat to expect from a resume review.\n\nCareerForce Cambridge \n140 North Birch Street\, Suite 105\, Cambridge\, MN 55008 \nPlease RSVP to Danielle at 763-401-1733 or dsnedeker@cmjts.org. \nADULT_Take Action Tuesday Resume Review
URL:https://www.cmjts.org/event/take-action-tuesdays-resume-review/2026-03-24/
LOCATION:CareerForce Cambridge\, 140 North Birch Street\, Suite 105\, Cambridge\, MN\, 55008\, United States
ORGANIZER;CN="Central Minnesota Jobs and Training Services%2C Inc.":MAILTO:info@cmjts.org
END:VEVENT
BEGIN:VEVENT
DTSTART;TZID=America/Chicago:20260324T100000
DTEND;TZID=America/Chicago:20260324T120000
DTSTAMP:20260424T032816
CREATED:20260317T173148Z
LAST-MODIFIED:20260317T173148Z
UID:10001595-1774346400-1774353600@www.cmjts.org
SUMMARY:Professional Networking Group - 10:00 a.m.
DESCRIPTION:Register for our weekly Professional Networking group – a complimentary program provided exclusively by Central Minnesota Jobs and Training Services\, Inc. and CareerForce Monticello. \nTuesday\, March 24th \nExpand your connections and opportunities!Join us every Tuesday at 10:00 a.m. for two full hours of developing strategies and tactics for professional job transition\, expanding your network\, and receiving support for leaders\, executives\, and professional individual contributors in job search mode. Connect\, learn\, and grow with other professionals while gaining valuable insights to advance your career. \nRegister Here! \nNote:  This group is designed for leaders\, managers\, and individual contributors who are seeking new professional roles.  If you are an Employer/Recruiter please contact one of our facilitators at jsharpe@cmjts.org.
URL:https://www.cmjts.org/event/professional-networking-group-1000-a-m-7/
LOCATION:Virtual
ORGANIZER;CN="Central Minnesota Jobs and Training Services%2C Inc.":MAILTO:info@cmjts.org
END:VEVENT
BEGIN:VEVENT
DTSTART;TZID=America/Chicago:20260331T100000
DTEND;TZID=America/Chicago:20260331T110000
DTSTAMP:20260424T032816
CREATED:20250508T135346Z
LAST-MODIFIED:20250508T135346Z
UID:10000464-1774951200-1774954800@www.cmjts.org
SUMMARY:Take Action Tuesdays Resume Review
DESCRIPTION:Jobseekers can visit us during Resume Review walk-in hours at CareerForce Cambridge for resume and cover letter reviews. A CMJTS career navigator will review your resume and provide personalized and actionable feedback. \nYour visit will include the following: \n\nHow strong is your resume?\nHow does the resume review work?\nWhat to expect from a resume review.\n\nCareerForce Cambridge \n140 North Birch Street\, Suite 105\, Cambridge\, MN 55008 \nPlease RSVP to Danielle at 763-401-1733 or dsnedeker@cmjts.org. \nADULT_Take Action Tuesday Resume Review
URL:https://www.cmjts.org/event/take-action-tuesdays-resume-review/2026-03-31/
LOCATION:CareerForce Cambridge\, 140 North Birch Street\, Suite 105\, Cambridge\, MN\, 55008\, United States
ORGANIZER;CN="Central Minnesota Jobs and Training Services%2C Inc.":MAILTO:info@cmjts.org
END:VEVENT
BEGIN:VEVENT
DTSTART;TZID=America/Chicago:20260331T100000
DTEND;TZID=America/Chicago:20260331T120000
DTSTAMP:20260424T032816
CREATED:20260317T161422Z
LAST-MODIFIED:20260324T175833Z
UID:10001596-1774951200-1774958400@www.cmjts.org
SUMMARY:CANCELLED - Professional Networking Group - 10:00 a.m.
DESCRIPTION:Our March 31st session is cancelled – regular meetings will resume on Tuesday\, April 7th.  \nNote: This group is designed for leaders\, managers\, and individual contributors who are seeking new professional roles. If you are an Employer/Recruiter please contact one of our facilitators at jsharpe@cmjts.org 
URL:https://www.cmjts.org/event/professional-networking-group-1000-a-m-6/
LOCATION:Virtual
ORGANIZER;CN="Central Minnesota Jobs and Training Services%2C Inc.":MAILTO:info@cmjts.org
END:VEVENT
END:VCALENDAR